BEGIN:VCALENDAR
VERSION:2.0
PRODID:-//eventon.com NONSGML v1.0//EN
CALSCALE:GREGORIAN
METHOD:PUBLISH
BEGIN:VEVENT
UID:69ea5a2694ae2
DTSTAMP:20260423T174302Z
DTSTART:20190606T193000Z
DTEND:20190606T235000Z
LOCATION:Conant Hall 254 Westchester Avenue
SUMMARY:Mom's the Word | Thursday\,  June 6 | Conant Hall
DESCRIPTION:If you&#8217;re a mom or have a mom\,  then this show is for yo
 u! A musical parody about the challenges of motherhood Thursday\,  June 6th
  | 7:30 PM Conant Hall | Pound Ridge Tickets: $50 &#8212; Register Now! &#8
 212; &nbsp; 100% of the net proceeds benefit FoPR Pondhouse Initiative\nhtt
 ps://friendsofpoundridge.org/events/moms-the-word-thursday-june-6-conant-ha
 ll/
URL:https://friendsofpoundridge.org/events/moms-the-word-thursday-june-6-conant-hall/
END:VEVENT
END:VCALENDAR